BEGIN:VCALENDAR
VERSION:2.0
PRODID:-//hacksw/handcal//NONSGML v1.0//EN
BEGIN:VEVENT
SUMMARY:TAE 2026
UID:156f9802-47e7-43e8-b83f-4bb481f600de
DTSTART:20260524T061500Z
DTEND:20260524T181500Z
LOCATION:Localisation Stade Leon Nautin 42000 Saint Etienne
CATEGORIES:Sportif
STATUS:
DESCRIPTION:<p>La Premiere Compagnie des Archers de Saint-Etienne
 organise son concours TAE au stade Leon Nautin.</p>
 
 <p>Au programme
 : tirs a distances reglementaires, series qualificatives et
 classement individuel selon les categories. Le concours se deroulera
 dans le respect du reglement federal, avec des conditions de tir
 adaptees a la saison exterieure (VOIR MANDAT).</p>
 
 <p>Nous aurons le
 plaisir d’accueillir des archers de la region pour une journee de
 competition, dans une ambiance serieuse et conviviale.</p>
URL;VALUE=URI:https://www.archers42.com/evenements/2026/05/24/tae-2026-2443507
END:VEVENT
END:VCALENDAR
